BEGIN:VCALENDAR
VERSION:2.0
PRODID:-//SP Thurgau - ECPv6.15.6//NONSGML v1.0//EN
CALSCALE:GREGORIAN
METHOD:PUBLISH
X-WR-CALNAME:SP Thurgau
X-ORIGINAL-URL:https://sp-tg.ch
X-WR-CALDESC:Veranstaltungen im SP Thurgau
REFRESH-INTERVAL;VALUE=DURATION:PT1H
X-Robots-Tag:noindex
X-PUBLISHED-TTL:PT1H
BEGIN:VTIMEZONE
TZID:Europe/Zurich
BEGIN:DAYLIGHT
TZOFFSETFROM:+0100
TZOFFSETTO:+0200
TZNAME:CEST
DTSTART:20220327T010000
END:DAYLIGHT
BEGIN:STANDARD
TZOFFSETFROM:+0200
TZOFFSETTO:+0100
TZNAME:CET
DTSTART:20221030T010000
END:STANDARD
BEGIN:DAYLIGHT
TZOFFSETFROM:+0100
TZOFFSETTO:+0200
TZNAME:CEST
DTSTART:20230326T010000
END:DAYLIGHT
BEGIN:STANDARD
TZOFFSETFROM:+0200
TZOFFSETTO:+0100
TZNAME:CET
DTSTART:20231029T010000
END:STANDARD
BEGIN:DAYLIGHT
TZOFFSETFROM:+0100
TZOFFSETTO:+0200
TZNAME:CEST
DTSTART:20240331T010000
END:DAYLIGHT
BEGIN:STANDARD
TZOFFSETFROM:+0200
TZOFFSETTO:+0100
TZNAME:CET
DTSTART:20241027T010000
END:STANDARD
END:VTIMEZONE
BEGIN:VEVENT
DTSTART;TZID=Europe/Zurich:20231102T191500
DTEND;TZID=Europe/Zurich:20231102T220000
DTSTAMP:20260420T164033
CREATED:20230712T104411Z
LAST-MODIFIED:20231017T100758Z
UID:88795-1698952500-1698962400@sp-tg.ch
SUMMARY:Mitgliederversammlung SP Thurgau (abgesagt)
DESCRIPTION:Die Geschäftsleitung der SP Thurgau sagt die Mitgliederversammlung nach den Wahlen ab. Je nach Ausgang des Wahlsonntags am 22. Oktober könnte kurzfristig eine Online-Sitzung\, oder ein Online-Parteitag per Zoom\, einberufen werden. \n|Der Link zur Sitzung wäre über diesen Link abrufbar.
URL:https://sp-tg.ch/veranstaltung/mitgliederversammlung-sp-thurgau-ort-noch-unbekannt/
END:VEVENT
END:VCALENDAR